BEGIN:VCALENDAR
VERSION:2.0
PRODID:-//wp-events-plugin.com//7.0.5//EN
TZID:Europe/Vienna
X-WR-TIMEZONE:Europe/Vienna
BEGIN:VEVENT
UID:51@skconsult.at
DTSTART;TZID=Europe/Vienna;VALUE=DATE:20241231
DTEND;TZID=Europe/Vienna;VALUE=DATE:20250101
DTSTAMP:20231217T190838Z
URL:https://skconsult.at/events/zm-fuer-11-24/
SUMMARY:ZM für 11/24
DESCRIPTION:Abgabe der Zusammenfassenden Meldung für November 2024
CATEGORIES:Allgemein
END:VEVENT
BEGIN:VTIMEZONE
TZID:Europe/Vienna
X-LIC-LOCATION:Europe/Vienna
BEGIN:STANDARD
DTSTART:20241027T020000
TZOFFSETFROM:+0200
TZOFFSETTO:+0100
TZNAME:CET
END:STANDARD
END:VTIMEZONE
END:VCALENDAR