BEGIN:VCALENDAR
VERSION:2.0
PRODID:-//wp-events-plugin.com//7.0.5//EN
TZID:Europe/Vienna
X-WR-TIMEZONE:Europe/Vienna
BEGIN:VEVENT
UID:64@skconsult.at
DTSTART;TZID=Europe/Vienna;VALUE=DATE:20250515
DTEND;TZID=Europe/Vienna;VALUE=DATE:20250516
DTSTAMP:20250206T150425Z
URL:https://skconsult.at/events/uva-03-25/
SUMMARY:UVA 03/25
DESCRIPTION:Umsatzsteuervoranmeldung für März 2025 bzw. das erste Quartal
  2025 (Jänner - März).
CATEGORIES:Allgemein
END:VEVENT
BEGIN:VTIMEZONE
TZID:Europe/Vienna
X-LIC-LOCATION:Europe/Vienna
BEGIN:DAYLIGHT
DTSTART:20250330T030000
TZOFFSETFROM:+0100
TZOFFSETTO:+0200
TZNAME:CEST
END:DAYLIGHT
END:VTIMEZONE
END:VCALENDAR